BEGIN:VCALENDAR
VERSION:2.0
PRODID:-//http://www.tanzlehrerschule.at///NONSGML kigkonsult.se iCalcreator 2.10.15//
METHOD:PUBLISH
BEGIN:VEVENT
UID:20260423T081325UTC-7594jvuEDT@http://www.tanzlehrerschule.at/
DTSTAMP:20260423T081325Z
DESCRIPTION: http://www.tanzlehrerschule.at/index.php/about/calendar/event/
 103-boogie
DTSTART:20231025T090000Z
DTEND:20231025T160000Z
LOCATION: ()
SUMMARY:Boogie
URL:http://www.tanzlehrerschule.at/index.php/about/calendar/event/103-boogi
 e
END:VEVENT
END:VCALENDAR
