BEGIN:VCALENDAR
VERSION:2.0
PRODID:-//http://www.tanzlehrerschule.at///NONSGML kigkonsult.se iCalcreator 2.10.15//
METHOD:PUBLISH
BEGIN:VEVENT
UID:20260423T100015UTC-6521UVFPXa@http://www.tanzlehrerschule.at/
DTSTAMP:20260423T100015Z
DESCRIPTION: http://www.tanzlehrerschule.at/index.php/about/calendar/event/
 177-boogie
DTSTART:20260418T090000Z
DTEND:20260418T160000Z
LOCATION: ()
SUMMARY:Boogie
URL:http://www.tanzlehrerschule.at/index.php/about/calendar/event/177-boogi
 e
END:VEVENT
END:VCALENDAR
