BEGIN:VCALENDAR
VERSION:2.0
PRODID:-//http://www.tanzlehrerschule.at///NONSGML kigkonsult.se iCalcreator 2.10.15//
METHOD:PUBLISH
BEGIN:VEVENT
UID:20260423T100347UTC-2844J9BkwN@http://www.tanzlehrerschule.at/
DTSTAMP:20260423T100347Z
DESCRIPTION: http://www.tanzlehrerschule.at/index.php/about/calendar/event/
 41-historische-taenze
DTSTART:20210411T090000Z
DTEND:20210411T160000Z
LOCATION: ()
SUMMARY:Historische Tänze
URL:http://www.tanzlehrerschule.at/index.php/about/calendar/event/41-histor
 ische-taenze
END:VEVENT
END:VCALENDAR
