BEGIN:VCALENDAR
VERSION:2.0
PRODID:-//http://www.tanzlehrerschule.at///NONSGML kigkonsult.se iCalcreator 2.10.15//
METHOD:PUBLISH
BEGIN:VEVENT
UID:20260420T083545UTC-6944fK1rVg@http://www.tanzlehrerschule.at/
DTSTAMP:20260420T083545Z
DESCRIPTION: http://www.tanzlehrerschule.at/index.php/events/event/144-tang
 o
DTSTART:20250426T090000Z
DTEND:20250426T160000Z
LOCATION:Tanzschule Danek (Tanzschule Danek\, Wr. Str. 20\, 2100 Korneuburg
 \, Österreich)
SUMMARY:Tango
URL:http://www.tanzlehrerschule.at/index.php/events/event/144-tango
END:VEVENT
END:VCALENDAR
