BEGIN:VCALENDAR
VERSION:2.0
PRODID:-//http://www.tanzlehrerschule.at///NONSGML kigkonsult.se iCalcreator 2.10.15//
METHOD:PUBLISH
BEGIN:VEVENT
UID:20260420T061311UTC-2813eDxS9C@http://www.tanzlehrerschule.at/
DTSTAMP:20260420T061311Z
DESCRIPTION: http://www.tanzlehrerschule.at/index.php/events/event/175-umga
 ngsformen-pruefung
DTSTART:20260620T090000Z
DTEND:20260620T160000Z
LOCATION: ()
SUMMARY:Umgangsformen + Prüfung
URL:http://www.tanzlehrerschule.at/index.php/events/event/175-umgangsformen
 -pruefung
END:VEVENT
END:VCALENDAR
