BEGIN:VCALENDAR
VERSION:2.0
PRODID:-//http://www.tanzlehrerschule.at///NONSGML kigkonsult.se iCalcreator 2.10.15//
METHOD:PUBLISH
BEGIN:VEVENT
UID:20260420T061846UTC-3934ZjxveA@http://www.tanzlehrerschule.at/
DTSTAMP:20260420T061846Z
DESCRIPTION: http://www.tanzlehrerschule.at/index.php/events/event/178-ethi
 k-pruefung
DTSTART:20260621T090000Z
DTEND:20260621T160000Z
LOCATION:Tanzschule Danek (Tanzschule Danek\, Wr. Str. 20\, 2100 Korneuburg
 \, Österreich)
SUMMARY:Ethik + Prüfung
URL:http://www.tanzlehrerschule.at/index.php/events/event/178-ethik-pruefun
 g
END:VEVENT
END:VCALENDAR
